{"text_format":"3","workbook":"xlsx","n_sheets":1,"sheets":["1"],"not_rendered":{"external_links":1},"read":"whole","date_system":"1900"}

{"sheet":"1","index":0,"n_rows":19,"n_cols":10,"rows_kept":19,"merged":[[0,1,0,3]]}
["Школа","МБОУ СОШ с. Нижнебалтачево",null,null,"Отд./корп",{"$nulls":3},"День","20.09.21."]
[]
["Прием пищи","Раздел","№ рец.","Блюдо","Выход, г","Цена","Калорийность","Белки","Жиры","Углеводы"]
["Завтрак","гор.блюдо",{"$f":"[1]TDSheet!A125","v":211.56},{"$f":"[1]TDSheet!B125","v":"Макаронные изделия с тертым сыром "},160,27.54,284,9,13,33]
[null,"гор.напиток",{"$f":"[1]TDSheet!A126","v":282.11},{"$f":"[1]TDSheet!B126","v":"Чай витаминизированный "},200,2.64,39,null,null,{"v":9.7,"d":"10"}]
[null,"хлеб",{"$f":"[1]TDSheet!A127","v":420.06},"Хлеб пшеничный/ржаной",90,4.59,130,{"$f":"[1]TDSheet!E127","v":4},{"$f":"[1]TDSheet!F127","v":{"v":0.5,"d":"1"}},{"$f":"[1]TDSheet!G127","v":{"v":27.5,"d":"28"}}]
[null,null,{"$f":"[1]TDSheet!A128","v":401.08},"Масло сливочное",8,8.43,{"$f":"[1]TDSheet!$H$128","v":{"v":52.88,"d":"53"}},0,6,0]
[]
["Завтрак 2","фрукты",{"$f":"[1]TDSheet!A129","v":{"v":38,"d":"38.00"}},"Яблоко",100,14.23,47,0,0,10]
[]
[]
["Обед","закуска"]
[null,"1 блюдо",{"$f":"[1]TDSheet!A132","v":56.21},{"$f":"[1]TDSheet!B132","v":"Суп с мелкошинкованными овощами со сметаной "},250,1.34,{"$f":"[1]TDSheet!H132","v":{"v":107.06,"d":"107"}},{"$f":"[1]TDSheet!E132","v":{"v":2.14,"d":"2"}},{"$f":"[1]TDSheet!F132","v":{"v":5.76,"d":"6"}},{"$f":"[1]TDSheet!G132","v":{"v":11.48,"d":"11"}}]
[null,"2 блюдо",{"$f":"[1]TDSheet!A133","v":{"v":131.8,"d":"131.80"}},{"$f":"[1]TDSheet!B133","v":"Плов из мяса птицы (филе)"},180,34.43,{"$f":"[1]TDSheet!H133","v":{"v":359.21,"d":"359"}},{"$f":"[1]TDSheet!E133","v":{"v":15.21,"d":"15"}},{"$f":"[1]TDSheet!F133","v":{"v":16.65,"d":"17"}},{"$f":"[1]TDSheet!G133","v":{"v":37.28,"d":"37"}}]
[null,"гарнир"]
[null,"сладкое"]
[null,"хлеб бел.",{"$f":"[1]TDSheet!A135","v":420.02},{"$f":"[1]TDSheet!B135","v":"Хлеб пшеничный обогащенный витаминами для детского питания "},50,2.55,{"$f":"[1]TDSheet!H135","v":104},{"$f":"[1]TDSheet!E135","v":{"v":3.2,"d":"3"}},{"$f":"[1]TDSheet!F135","v":{"v":0.4,"d":"0"}},{"$f":"[1]TDSheet!G135","v":22}]
[null,"хлеб черн.",{"$f":"[1]TDSheet!A136","v":421.11},{"$f":"[1]TDSheet!B136","v":"Хлеб ржано-пшеничный для детского питания "},40,2.04,{"$f":"[1]TDSheet!H136","v":88},{"$f":"[1]TDSheet!E136","v":{"v":3.2,"d":"3"}},{"$f":"[1]TDSheet!F136","v":{"v":0.4,"d":"0"}},{"$f":"[1]TDSheet!G136","v":{"v":18.4,"d":"18"}}]
[null,null,{"$f":"[1]TDSheet!A134","v":283},{"$f":"[1]TDSheet!B134","v":"Чай с сахаром "},200,2.64,{"v":39.9,"d":"40"},null,null,{"$f":"[1]TDSheet!$G$134","v":{"v":9.98,"d":"10"}}]