{"text_format":"3","workbook":"xlsx","n_sheets":1,"sheets":["1"],"not_rendered":{"external_links":1},"read":"whole","date_system":"1900"}

{"sheet":"1","index":0,"n_rows":19,"n_cols":10,"rows_kept":19,"merged":[[0,1,0,3]]}
["Школа","МБОУ СОШ с. Нижнебалтачево",null,null,"Отд./корп",{"$nulls":3},"День","2021-09-16"]
[]
["Прием пищи","Раздел","№ рец.","Блюдо","Выход, г","Цена","Калорийность","Белки","Жиры","Углеводы"]
["Завтрак","гор.блюдо",{"$f":"[1]TDSheet!A79","v":138.06},{"$f":"[1]TDSheet!B79","v":"Картофельное пюре "},{"$f":"[1]TDSheet!D79","v":180},null,{"$f":"[1]TDSheet!H79","v":{"v":177.19,"d":"177"}},{"$f":"[1]TDSheet!E79","v":{"v":3.95,"d":"4"}},{"$f":"[1]TDSheet!F79","v":{"v":6.09,"d":"6"}},{"$f":"[1]TDSheet!G79","v":{"v":26.5,"d":"27"}}]
[null,"гор.напиток",{"$f":"[1]TDSheet!A80","v":{"v":283,"d":"283.00"}},{"$f":"[1]TDSheet!B80","v":"Чай с сахаром "},{"$f":"[1]TDSheet!D80","v":200},null,{"$f":"[1]TDSheet!H80","v":{"v":39.9,"d":"40"}},{"$f":"[1]TDSheet!E80","v":0},{"$f":"[1]TDSheet!F80","v":0},{"$f":"[1]TDSheet!G80","v":{"v":9.98,"d":"10"}}]
[null,"хлеб",{"$f":"[1]TDSheet!A81","v":420.06},{"$f":"[1]TDSheet!B81","v":"Хлеб пшеничный обогащенный витаминами для детского питания "},{"$f":"[1]TDSheet!D81","v":50},null,{"$f":"[1]TDSheet!H81","v":130},{"$f":"[1]TDSheet!E81","v":4},{"$f":"[1]TDSheet!F81","v":{"v":0.5,"d":"1"}},{"$f":"[1]TDSheet!G81","v":{"v":27.5,"d":"28"}}]
[null,null,{"$f":"[1]TDSheet!A82","v":401.08},{"$f":"[1]TDSheet!B82","v":"Масло сливочное "},{"$f":"[1]TDSheet!D82","v":8},null,{"$f":"[1]TDSheet!H82","v":{"v":52.88,"d":"53"}},{"$f":"[1]TDSheet!E82","v":{"v":0.06,"d":"0"}},{"$f":"[1]TDSheet!F82","v":{"v":5.8,"d":"6"}},{"$f":"[1]TDSheet!G82","v":{"v":0.1,"d":"0"}}]
[null,null,{"$f":"[1]TDSheet!A78","v":423.18},"Тефтели рыбные (филе минтая) с томатным  соусом",{"$f":"[1]TDSheet!$D$78","v":"100/40"},null,{"$f":"[1]TDSheet!$H$78","v":169},{"$f":"[1]TDSheet!E78","v":11},{"$f":"[1]TDSheet!F78","v":{"v":8.76,"d":"9"}},{"$f":"[1]TDSheet!G78","v":{"v":11.3,"d":"11"}}]
["Завтрак 2","фрукты",{"$f":"[1]TDSheet!A83","v":38.59},{"$f":"[1]TDSheet!B83","v":"Яблоко "},125,null,{"$f":"[1]TDSheet!$H$83","v":{"v":58.75,"d":"59"}},{"$f":"[1]TDSheet!E83","v":{"v":0.5,"d":"1"}},{"$f":"[1]TDSheet!F83","v":{"v":0.5,"d":"1"}},{"$f":"[1]TDSheet!G83","v":{"v":12.25,"d":"12"}}]
[]
[]
["Обед","закуска"]
[null,"1 блюдо",{"$f":"[1]TDSheet!A86","v":56.13},{"$f":"[1]TDSheet!B86","v":"Борщ с капустой и картофелем со сметаной "},{"$f":"[1]TDSheet!D86","v":"250/10"},null,{"$f":"[1]TDSheet!H86","v":{"v":100.62,"d":"101"}},{"$f":"[1]TDSheet!E86","v":{"v":2.03,"d":"2"}},{"$f":"[1]TDSheet!F86","v":{"v":5.67,"d":"6"}},{"$f":"[1]TDSheet!G86","v":{"v":10.16,"d":"10"}}]
[null,"2 блюдо",{"$f":"[1]TDSheet!A87","v":445.35},{"$f":"[1]TDSheet!B87","v":"Котлеты мясные с томатным соусом "},{"$f":"[1]TDSheet!D87","v":"60/30"},null,{"$f":"[1]TDSheet!H87","v":{"v":178.98,"d":"179"}},{"$f":"[1]TDSheet!E87","v":{"v":9.87,"d":"10"}},{"$f":"[1]TDSheet!F87","v":{"v":11.79,"d":"12"}},{"$f":"[1]TDSheet!G87","v":{"v":8.34,"d":"8"}}]
[null,"гарнир",{"$f":"[1]TDSheet!A88","v":{"v":302,"d":"302.00"}},{"$f":"[1]TDSheet!B88","v":"Каша гречневая вязкая с маслом "},{"$f":"[1]TDSheet!D88","v":"150/5"},null,{"$f":"[1]TDSheet!H88","v":{"v":148.55,"d":"149"}},{"$f":"[1]TDSheet!E88","v":{"v":4.77,"d":"5"}},{"$f":"[1]TDSheet!F88","v":{"v":4.86,"d":"5"}},{"$f":"[1]TDSheet!G88","v":{"v":21.48,"d":"21"}}]
[null,"сладкое"]
[null,"хлеб бел.",{"$f":"[1]TDSheet!A90","v":420.06},{"$f":"[1]TDSheet!B90","v":"Хлеб пшеничный обогащенный витаминами для детского питания "},50,null,{"$f":"[1]TDSheet!H90","v":130},{"$f":"[1]TDSheet!E90","v":4},{"$f":"[1]TDSheet!F90","v":{"v":0.5,"d":"1"}},{"$f":"[1]TDSheet!G90","v":{"v":27.5,"d":"28"}}]
[null,"хлеб черн.",{"$f":"[1]TDSheet!A91","v":421.11},{"$f":"[1]TDSheet!B91","v":"Хлеб ржано-пшеничный для детского питания "},40,null,{"$f":"[1]TDSheet!H91","v":88},{"$f":"[1]TDSheet!E91","v":{"v":3.2,"d":"3"}},{"$f":"[1]TDSheet!F91","v":{"v":0.4,"d":"0"}},{"$f":"[1]TDSheet!G91","v":{"v":18.4,"d":"18"}}]
[null,null,{"$f":"[1]TDSheet!A89","v":283},{"$f":"[1]TDSheet!B89","v":"Чай с сахаром "},200,null,{"v":39.9,"d":"40"},{"$f":"[1]TDSheet!E89","v":0},{"$f":"[1]TDSheet!F89","v":0},{"$f":"[1]TDSheet!G89","v":{"v":9.98,"d":"10"}}]