{"text_format":"3","workbook":"xlsx","n_sheets":1,"sheets":["1"],"not_rendered":{"external_links":1},"read":"whole","date_system":"1900"}

{"sheet":"1","index":0,"n_rows":19,"n_cols":10,"rows_kept":19,"merged":[[0,1,0,3]]}
["Школа","МБОУ СОШ с. Нижнебалтачево",null,null,"Отд./корп",{"$nulls":3},"День","2021-09-14"]
[]
["Прием пищи","Раздел","№ рец.","Блюдо","Выход, г","Цена","Калорийность","Белки","Жиры","Углеводы"]
["Завтрак","гор.блюдо",{"$f":"[1]TDSheet!A33","v":302},{"$f":"[1]TDSheet!B33","v":"Каша гречневая вязкая с маслом "},150,12.42,{"$f":"[1]TDSheet!$H$33","v":{"v":148.55,"d":"149"}},{"$f":"[1]TDSheet!E33","v":{"v":4.77,"d":"5"}},{"$f":"[1]TDSheet!F33","v":{"v":4.86,"d":"5"}},{"$f":"[1]TDSheet!G33","v":{"v":21.48,"d":"21"}}]
[null,"гор.напиток",{"$f":"[1]TDSheet!A34","v":285},{"$f":"[1]TDSheet!B34","v":"Чай с лимоном и сахаром "},200,5.64,{"$f":"[1]TDSheet!$H$34","v":{"v":42.28,"d":"42"}},{"$f":"[1]TDSheet!E34","v":{"v":0.06,"d":"0"}},{"$f":"[1]TDSheet!F34","v":{"v":0.01,"d":"0"}},{"$f":"[1]TDSheet!G34","v":{"v":10.19,"d":"10"}}]
[null,"хлеб",{"$f":"[1]TDSheet!A35","v":420.06},{"$f":"[1]TDSheet!B35","v":"Хлеб пшеничный обогащенный витаминами для детского питания "},50,2.55,{"$f":"[1]TDSheet!$H$35","v":130},{"$f":"[1]TDSheet!E35","v":4},{"$f":"[1]TDSheet!F35","v":{"v":0.5,"d":"1"}},{"$f":"[1]TDSheet!G35","v":{"v":27.5,"d":"28"}}]
[null,null,{"$f":"[1]TDSheet!A36","v":27.01},{"$f":"[1]TDSheet!B36","v":"Сыр (порциями) "},10,{"v":5.2,"d":"5.20"},{"$f":"[1]TDSheet!$H$36","v":35},{"$f":"[1]TDSheet!E36","v":{"v":2.63,"d":"3"}},{"$f":"[1]TDSheet!F36","v":{"v":2.66,"d":"3"}},{"$f":"[1]TDSheet!G36","v":0}]
[null,null,{"$f":"[1]TDSheet!A37","v":476.01},"Киломочный продукт для дет питания",100,{"v":4.1,"d":"4.10"},{"$f":"[1]TDSheet!$H$37","v":62},{"$f":"[1]TDSheet!E37","v":{"v":3.2,"d":"3"}},{"$f":"[1]TDSheet!F37","v":{"v":3.2,"d":"3"}},{"$f":"[1]TDSheet!G37","v":{"v":4.5,"d":"5"}}]
["Завтрак 2","фрукты",{"$f":"[1]TDSheet!A83","v":38.59},{"$f":"[1]TDSheet!B83","v":"Яблоко "},100,28.19,{"$f":"[1]TDSheet!$H$83","v":{"v":58.75,"d":"59"}},{"$f":"[1]TDSheet!E83","v":{"v":0.5,"d":"1"}},{"$f":"[1]TDSheet!F83","v":{"v":0.5,"d":"1"}},{"$f":"[1]TDSheet!G83","v":{"v":12.25,"d":"12"}}]
[]
[]
["Обед","закуска",{"$f":"[1]TDSheet!A31","v":649.09},{"$f":"[1]TDSheet!B31","v":"Морковь отварная с растительным маслом "},30,{"v":3.8,"d":"3.80"},{"$f":"[1]TDSheet!$H$31","v":{"v":27.59,"d":"28"}},{"$f":"[1]TDSheet!E31","v":{"v":0.42,"d":"0"}},{"$f":"[1]TDSheet!F31","v":{"v":1.83,"d":"2"}},{"$f":"[1]TDSheet!G31","v":{"v":2.25,"d":"2"}}]
[null,"1 блюдо",{"$f":"[1]TDSheet!A41","v":129.08},{"$f":"[1]TDSheet!B41","v":"Суп картофельный с горохом и гренками "},200,12.05,{"$f":"[1]TDSheet!$H$41","v":{"v":175.69,"d":"176"}},{"$f":"[1]TDSheet!E41","v":{"v":6.62,"d":"7"}},{"$f":"[1]TDSheet!F41","v":{"v":3.88,"d":"4"}},{"$f":"[1]TDSheet!G41","v":{"v":28.57,"d":"29"}}]
[null,"2 блюдо",{"$f":"[1]TDSheet!$A$32","v":469.02},{"$f":"[1]TDSheet!$C$32","v":"Фрикадельки мясные в томатном соусе"},60,{"v":22.6,"d":"22.60"},{"$f":"[1]TDSheet!$H$32","v":{"v":157.63,"d":"158"}},{"$f":"[1]TDSheet!E32","v":{"v":9.25,"d":"9"}},{"$f":"[1]TDSheet!F32","v":{"v":9.84,"d":"10"}},{"$f":"[1]TDSheet!G32","v":{"v":7.96,"d":"8"}}]
[null,"гарнир",{"$f":"[1]TDSheet!A42","v":118.08},{"$f":"[1]TDSheet!B42","v":"Рагу овощное с отварным мясом "},160,38.03,{"$f":"[1]TDSheet!$H$42","v":{"v":237.8,"d":"238"}},{"$f":"[1]TDSheet!E42","v":{"v":12.96,"d":"13"}},{"$f":"[1]TDSheet!F42","v":{"v":15.24,"d":"15"}},{"$f":"[1]TDSheet!G42","v":{"v":12.02,"d":"12"}}]
[null,"сладкое"]
[null,"хлеб бел.",{"$f":"[1]TDSheet!A90","v":420.06},{"$f":"[1]TDSheet!B90","v":"Хлеб пшеничный обогащенный витаминами для детского питания "},25,2.55,{"$f":"[1]TDSheet!H44","v":65},{"$f":"[1]TDSheet!E44","v":2},{"$f":"[1]TDSheet!F44","v":{"v":0.25,"d":"0"}},{"$f":"[1]TDSheet!G44","v":{"v":13.75,"d":"14"}}]
[null,"хлеб черн.",{"$f":"[1]TDSheet!A91","v":421.11},{"$f":"[1]TDSheet!B91","v":"Хлеб ржано-пшеничный для детского питания "},20,2.05,{"$f":"[1]TDSheet!H45","v":88},{"$f":"[1]TDSheet!E45","v":{"v":3.2,"d":"3"}},{"$f":"[1]TDSheet!F45","v":{"v":0.4,"d":"0"}},{"$f":"[1]TDSheet!G45","v":{"v":18.4,"d":"18"}}]
[null,null,{"$f":"[1]TDSheet!A43","v":305.11},{"$f":"[1]TDSheet!B43","v":"Витаминизированный кисель "},200,{"v":10,"d":"10.00"},{"$f":"[1]TDSheet!$H$43","v":95},{"$f":"[1]TDSheet!E43","v":0},{"$f":"[1]TDSheet!F43","v":0},{"$f":"[1]TDSheet!G43","v":{"v":23.5,"d":"24"}}]