{"text_format":"3","workbook":"xlsx","n_sheets":1,"sheets":["1"],"not_rendered":{"external_links":1},"read":"whole","date_system":"1900"}

{"sheet":"1","index":0,"n_rows":20,"n_cols":10,"rows_kept":20,"merged":[[0,1,0,3]]}
["Школа","МБОУ СОШ с. Нижнебалтачево",null,null,"Отд./корп",{"$nulls":3},"День","2021-09-10"]
[]
["Прием пищи","Раздел","№ рец.","Блюдо","Выход, г","Цена","Калорийность","Белки","Жиры","Углеводы"]
["Завтрак","гор.блюдо",{"$f":"[1]TDSheet!A217","v":493.02},{"$f":"[1]TDSheet!B217","v":"Каша молочная \"Дружба\" с маслом "},{"$f":"[1]TDSheet!D217","v":"150/5"},null,{"$f":"[1]TDSheet!H217","v":{"v":185.91,"d":"186"}},{"$f":"[1]TDSheet!E217","v":{"v":4.86,"d":"5"}},{"$f":"[1]TDSheet!F217","v":{"v":6.72,"d":"7"}},{"$f":"[1]TDSheet!G217","v":{"v":26.35,"d":"26"}}]
[null,"гор.напиток",{"$f":"[1]TDSheet!A218","v":{"v":283,"d":"283.00"}},{"$f":"[1]TDSheet!B218","v":"Чай с сахаром "},{"$f":"[1]TDSheet!D218","v":200},null,{"$f":"[1]TDSheet!H218","v":{"v":39.9,"d":"40"}},{"$f":"[1]TDSheet!E218","v":0},{"$f":"[1]TDSheet!F218","v":0},{"$f":"[1]TDSheet!G218","v":{"v":9.98,"d":"10"}}]
[null,"хлеб",{"$f":"[1]TDSheet!A219","v":420.02},{"$f":"[1]TDSheet!B219","v":"Хлеб пшеничный обогащенный витаминами для детского питания "},{"$f":"[1]TDSheet!D219","v":40},null,{"$f":"[1]TDSheet!H219","v":104},{"$f":"[1]TDSheet!E219","v":{"v":3.2,"d":"3"}},{"$f":"[1]TDSheet!F219","v":{"v":0.4,"d":"0"}},{"$f":"[1]TDSheet!G219","v":22}]
[null,null,{"$f":"[1]TDSheet!A220","v":{"v":401,"d":"401.00"}},{"$f":"[1]TDSheet!B220","v":"Масло сливочное "},{"$f":"[1]TDSheet!D220","v":10},null,{"$f":"[1]TDSheet!H220","v":{"v":66.1,"d":"66"}},{"$f":"[1]TDSheet!E220","v":{"v":0.08,"d":"0"}},{"$f":"[1]TDSheet!F220","v":{"v":7.25,"d":"7"}},{"$f":"[1]TDSheet!G220","v":{"v":0.13,"d":"0"}}]
[null,null,{"$f":"[1]TDSheet!A221","v":27.01},{"$f":"[1]TDSheet!B221","v":"Сыр (порциями) "},{"$f":"[1]TDSheet!D221","v":10},null,{"$f":"[1]TDSheet!H221","v":35},{"$f":"[1]TDSheet!E221","v":{"v":2.63,"d":"3"}},{"$f":"[1]TDSheet!F221","v":{"v":2.66,"d":"3"}},{"$f":"[1]TDSheet!G221","v":0}]
["Завтрак 2","фрукты",null,null,{"$f":"[1]TDSheet!C222","v":0}]
[]
[]
["Обед","закуска"]
[null,"1 блюдо",{"$f":"[1]TDSheet!A225","v":129.2},{"$f":"[1]TDSheet!B225","v":"Суп картофельный с горохом "},{"$f":"[1]TDSheet!D225","v":250},null,{"$f":"[1]TDSheet!H225","v":{"v":142.91,"d":"143"}},{"$f":"[1]TDSheet!E225","v":{"v":5.91,"d":"6"}},{"$f":"[1]TDSheet!F225","v":{"v":4.55,"d":"5"}},{"$f":"[1]TDSheet!G225","v":{"v":19.49,"d":"19"}}]
[null,"2 блюдо",{"$f":"[1]TDSheet!A226","v":502.53},{"$f":"[1]TDSheet!B226","v":"Биточки из мяса птицы с томатным соусом (филе) "},{"$f":"[1]TDSheet!D226","v":"60/30"},null,{"$f":"[1]TDSheet!H226","v":{"v":159.02,"d":"159"}},{"$f":"[1]TDSheet!E226","v":{"v":9.95,"d":"10"}},{"$f":"[1]TDSheet!F226","v":{"v":9.48,"d":"9"}},{"$f":"[1]TDSheet!G226","v":{"v":8.57,"d":"9"}}]
[null,"гарнир",{"$f":"[1]TDSheet!A227","v":211.47},{"$f":"[1]TDSheet!B227","v":"Макаронные изделия отварные с маслом "},{"$f":"[1]TDSheet!D227","v":"150/10"},null,{"$f":"[1]TDSheet!H227","v":{"v":243.55,"d":"244"}},{"$f":"[1]TDSheet!E227","v":{"v":5.86,"d":"6"}},{"$f":"[1]TDSheet!F227","v":{"v":7.93,"d":"8"}},{"$f":"[1]TDSheet!G227","v":{"v":37.14,"d":"37"}}]
[null,"сладкое"]
[null,"хлеб бел.",{"$f":"[1]TDSheet!A229","v":420.02},{"$f":"[1]TDSheet!B229","v":"Хлеб пшеничный обогащенный витаминами для детского питания "},{"$f":"[1]TDSheet!D229","v":40},null,{"$f":"[1]TDSheet!H229","v":104},{"$f":"[1]TDSheet!E229","v":{"v":3.2,"d":"3"}},{"$f":"[1]TDSheet!F229","v":{"v":0.4,"d":"0"}},{"$f":"[1]TDSheet!G229","v":22}]
[null,"хлеб черн.",{"$f":"[1]TDSheet!A230","v":421.11},{"$f":"[1]TDSheet!B230","v":"Хлеб ржано-пшеничный для детского питания "},{"$f":"[1]TDSheet!D230","v":40},null,{"$f":"[1]TDSheet!H230","v":88},{"$f":"[1]TDSheet!E230","v":{"v":3.2,"d":"3"}},{"$f":"[1]TDSheet!F230","v":{"v":0.4,"d":"0"}},{"$f":"[1]TDSheet!G230","v":{"v":18.4,"d":"18"}}]
[null,null,{"$f":"[1]TDSheet!A228","v":294.01},{"$f":"[1]TDSheet!B228","v":"Компот из свежих плодов "},200,null,{"$f":"[1]TDSheet!$H$228","v":{"v":78.65,"d":"79"}},{"$f":"[1]TDSheet!E228","v":{"v":0.16,"d":"0"}},{"$f":"[1]TDSheet!F228","v":{"v":0.16,"d":"0"}},{"$f":"[1]TDSheet!G228","v":{"v":18.89,"d":"19"}}]
[null,null,{"$f":"[1]TDSheet!A222","v":476.01},"Кисломочный продукт для дет питания",100,null,{"$f":"[1]TDSheet!$H$222","v":62},{"$f":"[1]TDSheet!E222","v":{"v":3.2,"d":"3"}},{"$f":"[1]TDSheet!F222","v":{"v":3.2,"d":"3"}},{"$f":"[1]TDSheet!G222","v":{"v":4.5,"d":"5"}}]