{"text_format":"3","workbook":"xlsx","n_sheets":1,"sheets":["1"],"not_rendered":{"external_links":1},"read":"whole","date_system":"1900"}

{"sheet":"1","index":0,"n_rows":19,"n_cols":10,"rows_kept":19,"merged":[[0,1,0,3]]}
["Школа","МБОУ СОШ с. Нижнебалтачево",null,null,"Отд./корп",{"$nulls":3},"День","2021-09-08"]
[]
["Прием пищи","Раздел","№ рец.","Блюдо","Выход, г","Цена","Калорийность","Белки","Жиры","Углеводы"]
["Завтрак","гор.блюдо",{"$f":"[1]TDSheet!A170","v":131.79},{"$f":"[1]TDSheet!B170","v":"Плов из мяса птицы (филе)"},{"$f":"[1]TDSheet!$D$170","v":170},null,{"$f":"[1]TDSheet!H170","v":{"v":339.82,"d":"340"}},{"$f":"[1]TDSheet!E170","v":{"v":14.37,"d":"14"}},{"$f":"[1]TDSheet!F170","v":{"v":15.78,"d":"16"}},{"$f":"[1]TDSheet!G170","v":{"v":35.23,"d":"35"}}]
[null,"гор.напиток",{"$f":"[1]TDSheet!A171","v":283},{"$f":"[1]TDSheet!B171","v":"Чай с сахаром "},{"$f":"[1]TDSheet!D171","v":200},null,{"$f":"[1]TDSheet!H171","v":{"v":39.9,"d":"40"}},{"$f":"[1]TDSheet!E171","v":0},{"$f":"[1]TDSheet!F171","v":0},{"$f":"[1]TDSheet!G171","v":{"v":9.98,"d":"10"}}]
[null,"хлеб",{"$f":"[1]TDSheet!A172","v":{"v":1.1,"d":"1"}},{"$f":"[1]TDSheet!B172","v":"Хлеб пшеничный обогащенный витаминами для детского питания "},{"$f":"[1]TDSheet!D172","v":30},null,{"$f":"[1]TDSheet!H172","v":78},{"$f":"[1]TDSheet!E172","v":{"v":2.4,"d":"2"}},{"$f":"[1]TDSheet!F172","v":{"v":0.3,"d":"0"}},{"$f":"[1]TDSheet!G172","v":{"v":16.5,"d":"17"}}]
[null,null,{"$f":"[1]TDSheet!A173","v":401.08},{"$f":"[1]TDSheet!B173","v":"Масло сливочное "},{"$f":"[1]TDSheet!D173","v":8},null,{"$f":"[1]TDSheet!H173","v":{"v":52.88,"d":"53"}},{"$f":"[1]TDSheet!E173","v":{"v":0.06,"d":"0"}},{"$f":"[1]TDSheet!F173","v":{"v":5.8,"d":"6"}},{"$f":"[1]TDSheet!G173","v":{"v":0.1,"d":"0"}}]
[{"$nulls":4},{"$f":"[1]TDSheet!C174","v":0}]
["Завтрак 2","фрукты",{"$f":"[1]TDSheet!A174","v":{"v":38,"d":"38.00"}},{"$f":"[1]TDSheet!B174","v":"Яблоко "},100,null,{"$f":"[1]TDSheet!$H$174","v":47},{"$f":"[1]TDSheet!E174","v":{"v":0.4,"d":"0"}},{"$f":"[1]TDSheet!F174","v":{"v":0.4,"d":"0"}},{"$f":"[1]TDSheet!G174","v":{"v":9.8,"d":"10"}}]
[]
[]
["Обед","закуска"]
[null,"1 блюдо",{"$f":"[1]TDSheet!A177","v":53.39},{"$f":"[1]TDSheet!B177","v":"Щи из свежей капусты со сметаной "},{"$f":"[1]TDSheet!D177","v":"200/5"},null,{"$f":"[1]TDSheet!H177","v":{"v":72.63,"d":"73"}},{"$f":"[1]TDSheet!E177","v":{"v":1.55,"d":"2"}},{"$f":"[1]TDSheet!F177","v":{"v":4.11,"d":"4"}},{"$f":"[1]TDSheet!G177","v":{"v":7.18,"d":"7"}}]
[null,"2 блюдо",{"$f":"[1]TDSheet!A178","v":96.19},{"$f":"[1]TDSheet!B178","v":"Гуляш "},{"$f":"[1]TDSheet!D178","v":"45/45"},null,{"$f":"[1]TDSheet!H178","v":{"v":203.03,"d":"203"}},{"$f":"[1]TDSheet!E178","v":{"v":13.78,"d":"14"}},{"$f":"[1]TDSheet!F178","v":{"v":15.03,"d":"15"}},{"$f":"[1]TDSheet!G178","v":{"v":3.18,"d":"3"}}]
[null,"гарнир",{"$f":"[1]TDSheet!A179","v":211.05},{"$f":"[1]TDSheet!B179","v":"Макаронные изделия отварные с маслом "},{"$f":"[1]TDSheet!D179","v":"150/5"},null,{"$f":"[1]TDSheet!H179","v":{"v":210.5,"d":"211"}},{"$f":"[1]TDSheet!E179","v":{"v":5.82,"d":"6"}},{"$f":"[1]TDSheet!F179","v":{"v":4.31,"d":"4"}},{"$f":"[1]TDSheet!G179","v":{"v":37.08,"d":"37"}}]
[null,"сладкое"]
[null,"хлеб бел.",{"$f":"[1]TDSheet!A181","v":420.02},{"$f":"[1]TDSheet!B181","v":"Хлеб пшеничный обогащенный витаминами для детского питания "},{"$f":"[1]TDSheet!D181","v":40},null,{"$f":"[1]TDSheet!H181","v":104},{"$f":"[1]TDSheet!E181","v":{"v":3.2,"d":"3"}},{"$f":"[1]TDSheet!F181","v":{"v":0.4,"d":"0"}},{"$f":"[1]TDSheet!G181","v":22}]
[null,"хлеб черн.",{"$f":"[1]TDSheet!A182","v":421.11},{"$f":"[1]TDSheet!B182","v":"Хлеб ржано-пшеничный для детского питания "},{"$f":"[1]TDSheet!D182","v":40},null,{"$f":"[1]TDSheet!H182","v":88},{"$f":"[1]TDSheet!E182","v":{"v":3.2,"d":"3"}},{"$f":"[1]TDSheet!F182","v":{"v":0.4,"d":"0"}},{"$f":"[1]TDSheet!G182","v":{"v":18.4,"d":"18"}}]
[null,null,{"$f":"[1]TDSheet!A180","v":283},{"$f":"[1]TDSheet!B180","v":"Чай с сахаром "},200,null,{"v":39.9,"d":"40"},{"$f":"[1]TDSheet!E180","v":0},{"$f":"[1]TDSheet!F180","v":0},{"$f":"[1]TDSheet!G180","v":{"v":9.98,"d":"10"}}]