{"text_format":"3","workbook":"xlsx","n_sheets":1,"sheets":["1"],"not_rendered":{"external_links":1},"read":"whole","date_system":"1900"}

{"sheet":"1","index":0,"n_rows":19,"n_cols":10,"rows_kept":19,"merged":[[0,1,0,3]]}
["Школа","МБОУ СОШ с. Нижнебалтачево",null,null,"Отд./корп",{"$nulls":3},"День","2021-09-06"]
[]
["Прием пищи","Раздел","№ рец.","Блюдо","Выход, г","Цена","Калорийность","Белки","Жиры","Углеводы"]
["Завтрак","гор.блюдо",{"$f":"'[1]1'!C4","v":211.56},{"$f":"'[1]1'!D4","v":"Макаронные изделия с тертым сыром "},{"$f":"'[1]1'!E4","v":160},{"$f":"'[1]1'!F4","v":27.54},{"$f":"'[1]1'!G4","v":284},{"$f":"'[1]1'!H4","v":9},{"$f":"'[1]1'!I4","v":13},{"$f":"'[1]1'!J4","v":33}]
[null,"гор.напиток",{"$f":"'[1]1'!C5","v":282.11},{"$f":"'[1]1'!D5","v":"Чай витаминизированный "},{"$f":"'[1]1'!E5","v":200},{"$f":"'[1]1'!F5","v":2.64},{"$f":"'[1]1'!G5","v":39},{"$f":"'[1]1'!H5","v":0},{"$f":"'[1]1'!I5","v":0},{"$f":"'[1]1'!J5","v":{"v":9.7,"d":"10"}}]
[null,"хлеб",{"$f":"'[1]1'!C6","v":420.06},{"$f":"'[1]1'!D6","v":"Хлеб пшеничный/ржаной"},{"$f":"'[1]1'!E6","v":90},{"$f":"'[1]1'!F6","v":4.59},{"$f":"'[1]1'!G6","v":130},{"$f":"'[1]1'!H6","v":4},{"$f":"'[1]1'!I6","v":{"v":0.5,"d":"1"}},{"$f":"'[1]1'!J6","v":{"v":27.5,"d":"28"}}]
[null,null,{"$f":"'[1]1'!C7","v":401.08},{"$f":"'[1]1'!D7","v":"Масло сливочное"},{"$f":"'[1]1'!E7","v":8},{"$f":"'[1]1'!F7","v":8.43},{"$f":"'[1]1'!G7","v":{"v":52.88,"d":"53"}},{"$f":"'[1]1'!H7","v":0},{"$f":"'[1]1'!I7","v":6},{"$f":"'[1]1'!J7","v":0}]
[null,null,{"$f":"'[1]1'!C8","v":{"v":0,"d":"0.00"}},{"$f":"'[1]1'!D8","v":{"v":0,"d":"0.00"}},{"$f":"'[1]1'!E8","v":0},{"$f":"'[1]1'!F8","v":{"v":0,"d":"0.00"}},{"$f":"'[1]1'!G8","v":0},{"$f":"'[1]1'!H8","v":0},{"$f":"'[1]1'!I8","v":0},{"$f":"'[1]1'!J8","v":0}]
["Завтрак 2","фрукты",{"$f":"'[1]1'!C9","v":{"v":38,"d":"38.00"}},{"$f":"'[1]1'!D9","v":"Яблоко"},{"$f":"'[1]1'!E9","v":100},{"$f":"'[1]1'!F9","v":14.23},{"$f":"'[1]1'!G9","v":47},{"$f":"'[1]1'!H9","v":0},{"$f":"'[1]1'!I9","v":0},{"$f":"'[1]1'!J9","v":10}]
[]
[]
["Обед","закуска"]
[null,"1 блюдо",{"$f":"'[1]1'!C13","v":56.21},{"$f":"'[1]1'!D13","v":"Суп с мелкошинкованными овощами со сметаной "},{"$f":"'[1]1'!E13","v":250},{"$f":"'[1]1'!F13","v":1.34},{"$f":"'[1]1'!G13","v":{"v":107.06,"d":"107"}},{"$f":"'[1]1'!H13","v":{"v":2.14,"d":"2"}},{"$f":"'[1]1'!I13","v":{"v":5.76,"d":"6"}},{"$f":"'[1]1'!J13","v":{"v":11.48,"d":"11"}}]
[null,"2 блюдо",{"$f":"'[1]1'!C14","v":{"v":131.8,"d":"131.80"}},{"$f":"'[1]1'!D14","v":"Плов из мяса птицы (филе)"},{"$f":"'[1]1'!E14","v":180},{"$f":"'[1]1'!F14","v":34.43},{"$f":"'[1]1'!G14","v":{"v":359.21,"d":"359"}},{"$f":"'[1]1'!H14","v":{"v":15.21,"d":"15"}},{"$f":"'[1]1'!I14","v":{"v":16.65,"d":"17"}},{"$f":"'[1]1'!J14","v":{"v":37.28,"d":"37"}}]
[null,"гарнир",{"$f":"'[1]1'!C15","v":{"v":0,"d":"0.00"}},{"$f":"'[1]1'!D15","v":{"v":0,"d":"0.00"}},{"$f":"'[1]1'!E15","v":0},{"$f":"'[1]1'!F15","v":{"v":0,"d":"0.00"}},{"$f":"'[1]1'!G15","v":0},{"$f":"'[1]1'!H15","v":0},{"$f":"'[1]1'!I15","v":0},{"$f":"'[1]1'!J15","v":0}]
[null,"сладкое",{"$f":"'[1]1'!C16","v":{"v":0,"d":"0.00"}},{"$f":"'[1]1'!D16","v":{"v":0,"d":"0.00"}},{"$f":"'[1]1'!E16","v":0},{"$f":"'[1]1'!F16","v":{"v":0,"d":"0.00"}},{"$f":"'[1]1'!G16","v":0},{"$f":"'[1]1'!H16","v":0},{"$f":"'[1]1'!I16","v":0},{"$f":"'[1]1'!J16","v":0}]
[null,"хлеб бел.",{"$f":"'[1]1'!C17","v":420.02},{"$f":"'[1]1'!D17","v":"Хлеб пшеничный обогащенный витаминами для детского питания "},{"$f":"'[1]1'!E17","v":50},{"$f":"'[1]1'!F17","v":2.55},{"$f":"'[1]1'!G17","v":104},{"$f":"'[1]1'!H17","v":{"v":3.2,"d":"3"}},{"$f":"'[1]1'!I17","v":{"v":0.4,"d":"0"}},{"$f":"'[1]1'!J17","v":22}]
[null,"хлеб черн.",{"$f":"'[1]1'!C18","v":421.11},{"$f":"'[1]1'!D18","v":"Хлеб ржано-пшеничный для детского питания "},{"$f":"'[1]1'!E18","v":40},{"$f":"'[1]1'!F18","v":2.04},{"$f":"'[1]1'!G18","v":88},{"$f":"'[1]1'!H18","v":{"v":3.2,"d":"3"}},{"$f":"'[1]1'!I18","v":{"v":0.4,"d":"0"}},{"$f":"'[1]1'!J18","v":{"v":18.4,"d":"18"}}]
[null,null,{"$f":"'[1]1'!C19","v":{"v":283,"d":"283.00"}},{"$f":"'[1]1'!D19","v":"Чай с сахаром "},{"$f":"'[1]1'!E19","v":200},{"$f":"'[1]1'!F19","v":2.64},{"$f":"'[1]1'!G19","v":{"v":39.9,"d":"40"}},{"$f":"'[1]1'!H19","v":0},{"$f":"'[1]1'!I19","v":0},{"$f":"'[1]1'!J19","v":{"v":9.98,"d":"10"}}]