{"text_format":"3","workbook":"xlsx","n_sheets":1,"sheets":["1"],"not_rendered":{"external_links":1},"read":"whole","date_system":"1900"}

{"sheet":"1","index":0,"n_rows":19,"n_cols":10,"rows_kept":19,"merged":[[0,1,0,3]]}
["Школа","МБОУ СОШ с. Нижнебалтачево",null,null,"Отд./корп",{"$nulls":3},"День","2021-09-03"]
[]
["Прием пищи","Раздел","№ рец.","Блюдо","Выход, г","Цена","Калорийность","Белки","Жиры","Углеводы"]
["Завтрак","гор.блюдо",{"$f":"[1]TDSheet!A102","v":181.39},{"$f":"[1]TDSheet!B102","v":"Каша рисовая молочная вязкая с маслом "},{"$f":"[1]TDSheet!D102","v":"150/10"},null,{"$f":"[1]TDSheet!H102","v":{"v":237.47,"d":"237"}},{"$f":"[1]TDSheet!E102","v":{"v":4.6,"d":"5"}},{"$f":"[1]TDSheet!F102","v":{"v":9.96,"d":"10"}},{"$f":"[1]TDSheet!G102","v":{"v":32.25,"d":"32"}}]
[null,"гор.напиток",{"$f":"[1]TDSheet!A103","v":282.11},{"$f":"[1]TDSheet!B103","v":"Чай витаминизированный "},{"$f":"[1]TDSheet!D103","v":200},null,{"$f":"[1]TDSheet!H103","v":39},{"$f":"[1]TDSheet!E103","v":0},{"$f":"[1]TDSheet!F103","v":0},{"$f":"[1]TDSheet!G103","v":{"v":9.7,"d":"10"}}]
[null,"хлеб",{"$f":"[1]TDSheet!A104","v":420.05},{"$f":"[1]TDSheet!B104","v":"Хлеб пшеничный обогащенный витаминами для детского питания "},{"$f":"[1]TDSheet!D104","v":45},null,{"$f":"[1]TDSheet!H104","v":117},{"$f":"[1]TDSheet!E104","v":{"v":3.6,"d":"4"}},{"$f":"[1]TDSheet!F104","v":{"v":0.45,"d":"0"}},{"$f":"[1]TDSheet!G104","v":{"v":24.75,"d":"25"}}]
[null,null,{"$f":"[1]TDSheet!A105","v":27.01},{"$f":"[1]TDSheet!B105","v":"Сыр (порциями) "},{"$f":"[1]TDSheet!D105","v":10},null,{"$f":"[1]TDSheet!H105","v":35},{"$f":"[1]TDSheet!E105","v":{"v":2.63,"d":"3"}},{"$f":"[1]TDSheet!F105","v":{"v":2.66,"d":"3"}},{"$f":"[1]TDSheet!G105","v":0}]
[null,null,{"$f":"[1]TDSheet!A106","v":476.01},"Кисломолочный продукт для детского питания",{"$f":"[1]TDSheet!D106","v":100},null,{"$f":"[1]TDSheet!H106","v":62},{"$f":"[1]TDSheet!E106","v":{"v":3.2,"d":"3"}},{"$f":"[1]TDSheet!F106","v":{"v":3.2,"d":"3"}},{"$f":"[1]TDSheet!G106","v":{"v":4.5,"d":"5"}}]
["Завтрак 2","фрукты"]
[]
[]
["Обед","закуска"]
[null,"1 блюдо",{"$f":"[1]TDSheet!A109","v":54.47},{"$f":"[1]TDSheet!B109","v":"Рассольник ленинградский со сметаной "},{"$f":"[1]TDSheet!D109","v":"200/10"},null,{"$f":"[1]TDSheet!H109","v":{"v":109.77,"d":"110"}},{"$f":"[1]TDSheet!E109","v":{"v":2.09,"d":"2"}},{"$f":"[1]TDSheet!F109","v":{"v":5.01,"d":"5"}},{"$f":"[1]TDSheet!G109","v":{"v":13.9,"d":"14"}}]
[null,"2 блюдо",{"$f":"[1]TDSheet!A110","v":502.53},{"$f":"[1]TDSheet!B110","v":"Биточки из мяса птицы с томатным соусом (филе)"},{"$f":"[1]TDSheet!D110","v":"60/30"},null,{"$f":"[1]TDSheet!H110","v":{"v":159.02,"d":"159"}},{"$f":"[1]TDSheet!E110","v":{"v":9.95,"d":"10"}},{"$f":"[1]TDSheet!F110","v":{"v":9.48,"d":"9"}},{"$f":"[1]TDSheet!G110","v":{"v":8.57,"d":"9"}}]
[null,"гарнир",{"$f":"[1]TDSheet!A111","v":138.06},{"$f":"[1]TDSheet!B111","v":"Картофельное пюре "},{"$f":"[1]TDSheet!D111","v":180},null,{"$f":"[1]TDSheet!H111","v":{"v":177.19,"d":"177"}},{"$f":"[1]TDSheet!E111","v":{"v":3.95,"d":"4"}},{"$f":"[1]TDSheet!F111","v":{"v":6.09,"d":"6"}},{"$f":"[1]TDSheet!G111","v":{"v":26.5,"d":"27"}}]
[null,"сладкое"]
[null,"хлеб бел.",{"$f":"[1]TDSheet!A113","v":420.05},{"$f":"[1]TDSheet!B113","v":"Хлеб пшеничный обогащенный витаминами для детского питания "},{"$f":"[1]TDSheet!D113","v":45},null,{"$f":"[1]TDSheet!H113","v":117},{"$f":"[1]TDSheet!E113","v":{"v":3.6,"d":"4"}},{"$f":"[1]TDSheet!F113","v":{"v":0.45,"d":"0"}},{"$f":"[1]TDSheet!G113","v":{"v":24.75,"d":"25"}}]
[null,"хлеб черн.",{"$f":"[1]TDSheet!A114","v":421.11},{"$f":"[1]TDSheet!B114","v":"Хлеб ржано-пшеничный для детского питания "},{"$f":"[1]TDSheet!D114","v":40},null,{"$f":"[1]TDSheet!H114","v":88},{"$f":"[1]TDSheet!E114","v":{"v":3.2,"d":"3"}},{"$f":"[1]TDSheet!F114","v":{"v":0.4,"d":"0"}},{"$f":"[1]TDSheet!G114","v":{"v":18.4,"d":"18"}}]
[null,null,{"$f":"[1]TDSheet!A112","v":283},{"$f":"[1]TDSheet!B112","v":"Чай с сахаром "},200,null,{"v":39.9,"d":"40"},{"$f":"[1]TDSheet!E112","v":0},{"$f":"[1]TDSheet!F112","v":0},{"$f":"[1]TDSheet!G112","v":{"v":9.98,"d":"10"}}]